Package: nuCpos Version: 1.28.0 Command: /home/biocbuild/bbs-3.22-bioc/R/bin/R CMD check --install=check:nuCpos.install-out.txt --library=/home/biocbuild/bbs-3.22-bioc/R/site-library --timings nuCpos_1.28.0.tar.gz StartedAt: 2025-11-12 02:15:15 -0500 (Wed, 12 Nov 2025) EndedAt: 2025-11-12 02:15:49 -0500 (Wed, 12 Nov 2025) EllapsedTime: 34.0 seconds RetCode: 0 Status: OK CheckDir: nuCpos.Rcheck Warnings: 0