Package: nuCpos Version: 1.26.0 Command: /home/biocbuild/bbs-3.21-bioc/R/bin/R CMD build --keep-empty-dirs --no-resave-data nuCpos StartedAt: 2025-10-15 18:54:30 -0400 (Wed, 15 Oct 2025) EndedAt: 2025-10-15 18:54:42 -0400 (Wed, 15 Oct 2025) EllapsedTime: 12.0 seconds RetCode: 0 Status: OK PackageFile: nuCpos_1.26.0.tar.gz PackageFileSize: 2.392 MiB