Package: nuCpos Version: 1.26.0 Command: /home/biocbuild/R/R/bin/R CMD build --keep-empty-dirs --no-resave-data nuCpos StartedAt: 2025-09-26 04:30:17 -0000 (Fri, 26 Sep 2025) EndedAt: 2025-09-26 04:30:37 -0000 (Fri, 26 Sep 2025) EllapsedTime: 20.0 seconds RetCode: 0 Status: OK PackageFile: nuCpos_1.26.0.tar.gz PackageFileSize: 2.386 MiB