Package: nuCpos Version: 1.26.0 Command: /Library/Frameworks/R.framework/Resources/bin/R CMD INSTALL nuCpos StartedAt: 2025-04-21 15:01:31 -0400 (Mon, 21 Apr 2025) EndedAt: 2025-04-21 15:01:39 -0400 (Mon, 21 Apr 2025) EllapsedTime: 7.6 seconds RetCode: 0 Status: OK