Package: nuCpos Version: 1.26.0 Command: rm -rf nuCpos.buildbin-libdir && mkdir nuCpos.buildbin-libdir && /Users/biocbuild/BBS/utils/build-universal.sh nuCpos_1.26.0.tar.gz /Library/Frameworks/R.framework/Resources/bin/R nuCpos.buildbin-libdir StartedAt: 2025-04-21 22:44:59 -0400 (Mon, 21 Apr 2025) EndedAt: 2025-04-21 22:45:03 -0400 (Mon, 21 Apr 2025) EllapsedTime: 4.1 seconds RetCode: 0 Status: OK PackageFile: nuCpos_1.26.0.tgz PackageFileSize: 1.712 MiB