Package: nuCpos Version: 1.26.0 Command: /Library/Frameworks/R.framework/Resources/bin/R CMD INSTALL nuCpos StartedAt: 2025-10-13 15:08:52 -0400 (Mon, 13 Oct 2025) EndedAt: 2025-10-13 15:09:04 -0400 (Mon, 13 Oct 2025) EllapsedTime: 11.6 seconds RetCode: 0 Status: OK