Package: npGSEA Version: 1.46.0 Command: /home/biocbuild/bbs-3.22-bioc/R/bin/R CMD INSTALL npGSEA StartedAt: 2025-11-14 15:32:07 -0500 (Fri, 14 Nov 2025) EndedAt: 2025-11-14 15:32:24 -0500 (Fri, 14 Nov 2025) EllapsedTime: 16.4 seconds RetCode: 0 Status: OK