Package: npGSEA Version: 1.46.0 Command: /home/biocbuild/bbs-3.22-bioc/R/bin/R CMD build --keep-empty-dirs --no-resave-data --md5 npGSEA StartedAt: 2025-11-14 19:08:11 -0500 (Fri, 14 Nov 2025) EndedAt: 2025-11-14 19:08:40 -0500 (Fri, 14 Nov 2025) EllapsedTime: 29.0 seconds RetCode: 0 Status: OK PackageFile: npGSEA_1.46.0.tar.gz PackageFileSize: 387.2 KiB