Package: notameStats Version: 1.0.0 Command: /home/biocbuild/bbs-3.22-bioc/R/bin/R CMD build --keep-empty-dirs --no-resave-data --md5 notameStats StartedAt: 2025-11-11 19:08:52 -0500 (Tue, 11 Nov 2025) EndedAt: 2025-11-11 19:09:36 -0500 (Tue, 11 Nov 2025) EllapsedTime: 44.0 seconds RetCode: 0 Status: OK PackageFile: notameStats_1.0.0.tar.gz PackageFileSize: 256.9 KiB