Package: notame Version: 1.0.0 Command: /home/biocbuild/bbs-3.22-bioc/R/bin/R CMD check --install=check:notame.install-out.txt --library=/home/biocbuild/bbs-3.22-bioc/R/site-library --timings notame_1.0.0.tar.gz StartedAt: 2025-11-21 02:49:07 -0500 (Fri, 21 Nov 2025) EndedAt: 2025-11-21 02:55:52 -0500 (Fri, 21 Nov 2025) EllapsedTime: 404.4 seconds RetCode: 0 Status: OK CheckDir: notame.Rcheck Warnings: 0