Package: notame Version: 1.0.0 Command: /home/biocbuild/bbs-3.22-bioc/R/bin/R CMD build --keep-empty-dirs --no-resave-data --md5 notame StartedAt: 2025-11-11 19:08:49 -0500 (Tue, 11 Nov 2025) EndedAt: 2025-11-11 19:11:56 -0500 (Tue, 11 Nov 2025) EllapsedTime: 187.2 seconds RetCode: 0 Status: OK PackageFile: notame_1.0.0.tar.gz PackageFileSize: 869.4 KiB