Package: notame Version: 1.0.0 Command: /Library/Frameworks/R.framework/Resources/bin/R CMD build --keep-empty-dirs --no-resave-data notame StartedAt: 2025-11-03 18:03:00 -0500 (Mon, 03 Nov 2025) EndedAt: 2025-11-03 18:06:37 -0500 (Mon, 03 Nov 2025) EllapsedTime: 217.1 seconds RetCode: 0 Status: OK PackageFile: notame_1.0.0.tar.gz PackageFileSize: 866.8 KiB