Package: notame Version: 1.0.0 Command: rm -rf notame.buildbin-libdir && mkdir notame.buildbin-libdir && /Users/biocbuild/BBS/utils/build-universal.sh notame_1.0.0.tar.gz /Library/Frameworks/R.framework/Resources/bin/R notame.buildbin-libdir StartedAt: 2025-11-04 01:53:41 -0500 (Tue, 04 Nov 2025) EndedAt: 2025-11-04 01:54:19 -0500 (Tue, 04 Nov 2025) EllapsedTime: 37.1 seconds RetCode: 0 Status: OK PackageFile: notame_1.0.0.tgz PackageFileSize: 978.1 KiB