Package: notame Version: 1.0.0 Command: /Library/Frameworks/R.framework/Resources/bin/R CMD INSTALL notame StartedAt: 2025-11-10 15:14:59 -0500 (Mon, 10 Nov 2025) EndedAt: 2025-11-10 15:15:09 -0500 (Mon, 10 Nov 2025) EllapsedTime: 9.9 seconds RetCode: 0 Status: OK