Package: notame Version: 1.0.0 Command: rm -rf notame.buildbin-libdir && mkdir notame.buildbin-libdir && /Users/biocbuild/BBS/utils/build-universal.sh notame_1.0.0.tar.gz /Library/Frameworks/R.framework/Resources/bin/R notame.buildbin-libdir StartedAt: 2025-11-10 23:29:45 -0500 (Mon, 10 Nov 2025) EndedAt: 2025-11-10 23:29:56 -0500 (Mon, 10 Nov 2025) EllapsedTime: 11.2 seconds RetCode: 0 Status: OK PackageFile: notame_1.0.0.tgz PackageFileSize: 979.5 KiB