Package: normr Version: 1.36.0 Command: /home/biocbuild/bbs-3.22-bioc/R/bin/R CMD check --install=check:normr.install-out.txt --library=/home/biocbuild/bbs-3.22-bioc/R/site-library --timings normr_1.36.0.tar.gz StartedAt: 2025-11-21 02:48:57 -0500 (Fri, 21 Nov 2025) EndedAt: 2025-11-21 02:54:05 -0500 (Fri, 21 Nov 2025) EllapsedTime: 307.3 seconds RetCode: 1 Status: ERROR CheckDir: normr.Rcheck Warnings: NA