Package: normr Version: 1.36.0 Command: rm -rf normr.buildbin-libdir && mkdir normr.buildbin-libdir && /Users/biocbuild/BBS/utils/build-universal.sh normr_1.36.0.tar.gz /Library/Frameworks/R.framework/Resources/bin/R normr.buildbin-libdir StartedAt: 2025-11-04 01:53:41 -0500 (Tue, 04 Nov 2025) EndedAt: 2025-11-04 01:54:46 -0500 (Tue, 04 Nov 2025) EllapsedTime: 64.7 seconds RetCode: 0 Status: OK PackageFile: normr_1.36.0.tgz PackageFileSize: 4.18 MiB