Package: normr Version: 1.34.0 Command: /home/biocbuild/R/R/bin/R CMD INSTALL normr StartedAt: 2025-10-13 20:41:22 -0000 (Mon, 13 Oct 2025) EndedAt: 2025-10-13 20:42:31 -0000 (Mon, 13 Oct 2025) EllapsedTime: 68.9 seconds RetCode: 0 Status: OK