Package: normalize450K Version: 1.38.0 Command: /home/biocbuild/R/R/bin/R CMD INSTALL normalize450K StartedAt: 2025-11-24 21:20:10 -0000 (Mon, 24 Nov 2025) EndedAt: 2025-11-24 21:20:27 -0000 (Mon, 24 Nov 2025) EllapsedTime: 17.3 seconds RetCode: 0 Status: OK