Package: normalize450K Version: 1.38.0 Command: /home/biocbuild/R/R/bin/R CMD build --keep-empty-dirs --no-resave-data normalize450K StartedAt: 2025-11-21 04:26:50 -0000 (Fri, 21 Nov 2025) EndedAt: 2025-11-21 04:27:11 -0000 (Fri, 21 Nov 2025) EllapsedTime: 21.0 seconds RetCode: 0 Status: OK PackageFile: normalize450K_1.38.0.tar.gz PackageFileSize: 3.132 MiB