Package: normalize450K Version: 1.38.0 Command: /home/biocbuild/bbs-3.22-bioc/R/bin/R CMD INSTALL normalize450K StartedAt: 2025-11-11 15:59:55 -0500 (Tue, 11 Nov 2025) EndedAt: 2025-11-11 16:00:12 -0500 (Tue, 11 Nov 2025) EllapsedTime: 16.8 seconds RetCode: 0 Status: OK