Package: normalize450K Version: 1.36.0 Command: /Library/Frameworks/R.framework/Resources/bin/R CMD INSTALL normalize450K StartedAt: 2025-04-21 15:14:14 -0400 (Mon, 21 Apr 2025) EndedAt: 2025-04-21 15:14:41 -0400 (Mon, 21 Apr 2025) EllapsedTime: 27.3 seconds RetCode: 0 Status: OK