Package: normalize450K Version: 1.36.0 Command: rm -rf normalize450K.buildbin-libdir && mkdir normalize450K.buildbin-libdir && /Users/biocbuild/BBS/utils/build-universal.sh normalize450K_1.36.0.tar.gz /Library/Frameworks/R.framework/Resources/bin/R normalize450K.buildbin-libdir StartedAt: 2025-04-21 22:44:52 -0400 (Mon, 21 Apr 2025) EndedAt: 2025-04-21 22:45:02 -0400 (Mon, 21 Apr 2025) EllapsedTime: 10.2 seconds RetCode: 0 Status: OK PackageFile: normalize450K_1.36.0.tgz PackageFileSize: 3.137 MiB