Package: normalize450K Version: 1.36.0 Command: /Library/Frameworks/R.framework/Resources/bin/R CMD INSTALL normalize450K StartedAt: 2025-10-13 18:23:41 -0400 (Mon, 13 Oct 2025) EndedAt: 2025-10-13 18:24:09 -0400 (Mon, 13 Oct 2025) EllapsedTime: 28.8 seconds RetCode: 0 Status: OK