Package: normalize450K Version: 1.36.0 Command: /Library/Frameworks/R.framework/Resources/bin/R CMD build --keep-empty-dirs --no-resave-data normalize450K StartedAt: 2025-10-14 05:47:00 -0400 (Tue, 14 Oct 2025) EndedAt: 2025-10-14 05:47:37 -0400 (Tue, 14 Oct 2025) EllapsedTime: 36.6 seconds RetCode: 0 Status: OK PackageFile: normalize450K_1.36.0.tar.gz PackageFileSize: 3.138 MiB