Package: normalize450K Version: 1.36.0 Maintainer: Jonathan Alexander Heiss MaintainerEmail: jonathan.heiss at posteo.de git_url: https://git.bioconductor.org/packages/normalize450K git_branch: RELEASE_3_21 git_last_commit: a965574 git_last_commit_date: 2025-04-15 10:56:54 -0400 (Tue, 15 Apr 2025)