Package: nondetects Version: 2.40.0 Command: /home/biocbuild/bbs-3.22-bioc/R/bin/R CMD INSTALL nondetects StartedAt: 2025-11-11 16:05:38 -0500 (Tue, 11 Nov 2025) EndedAt: 2025-11-11 16:05:46 -0500 (Tue, 11 Nov 2025) EllapsedTime: 8.0 seconds RetCode: 0 Status: OK