Package: nondetects Version: 2.40.0 Command: /home/biocbuild/bbs-3.22-bioc/R/bin/R CMD build --keep-empty-dirs --no-resave-data --md5 nondetects StartedAt: 2025-11-13 19:06:40 -0500 (Thu, 13 Nov 2025) EndedAt: 2025-11-13 19:09:12 -0500 (Thu, 13 Nov 2025) EllapsedTime: 152.2 seconds RetCode: 0 Status: OK PackageFile: nondetects_2.40.0.tar.gz PackageFileSize: 130.9 KiB