Package: nondetects Version: 2.40.0 Command: /Library/Frameworks/R.framework/Resources/bin/R CMD build --keep-empty-dirs --no-resave-data nondetects StartedAt: 2025-11-10 17:13:43 -0500 (Mon, 10 Nov 2025) EndedAt: 2025-11-10 17:14:27 -0500 (Mon, 10 Nov 2025) EllapsedTime: 44.5 seconds RetCode: 0 Status: OK PackageFile: nondetects_2.40.0.tar.gz PackageFileSize: 137.3 KiB