Package: nnSVG Version: 1.14.0 Command: /home/biocbuild/bbs-3.22-bioc/R/bin/R CMD INSTALL nnSVG StartedAt: 2025-11-11 15:26:54 -0500 (Tue, 11 Nov 2025) EndedAt: 2025-11-11 15:27:17 -0500 (Tue, 11 Nov 2025) EllapsedTime: 22.2 seconds RetCode: 0 Status: OK