Package: nnSVG Version: 1.14.0 Command: /home/biocbuild/bbs-3.22-bioc/R/bin/R CMD check --install=check:nnSVG.install-out.txt --library=/home/biocbuild/bbs-3.22-bioc/R/site-library --timings nnSVG_1.14.0.tar.gz StartedAt: 2025-11-15 02:26:55 -0500 (Sat, 15 Nov 2025) EndedAt: 2025-11-15 02:38:20 -0500 (Sat, 15 Nov 2025) EllapsedTime: 685.7 seconds RetCode: 0 Status: OK CheckDir: nnSVG.Rcheck Warnings: 0