Package: nnSVG Version: 1.14.0 Command: /Library/Frameworks/R.framework/Resources/bin/R CMD INSTALL nnSVG StartedAt: 2025-11-03 15:28:17 -0500 (Mon, 03 Nov 2025) EndedAt: 2025-11-03 15:28:47 -0500 (Mon, 03 Nov 2025) EllapsedTime: 30.6 seconds RetCode: 0 Status: OK