Package: nnSVG Version: 1.14.0 Command: /Library/Frameworks/R.framework/Resources/bin/R CMD build --keep-empty-dirs --no-resave-data nnSVG StartedAt: 2025-11-03 18:02:16 -0500 (Mon, 03 Nov 2025) EndedAt: 2025-11-03 18:07:41 -0500 (Mon, 03 Nov 2025) EllapsedTime: 324.5 seconds RetCode: 0 Status: OK PackageFile: nnSVG_1.14.0.tar.gz PackageFileSize: 1.546 MiB