Package: nnSVG Version: 1.14.0 Command: rm -rf nnSVG.buildbin-libdir && mkdir nnSVG.buildbin-libdir && /Users/biocbuild/BBS/utils/build-universal.sh nnSVG_1.14.0.tar.gz /Library/Frameworks/R.framework/Resources/bin/R nnSVG.buildbin-libdir StartedAt: 2025-11-04 01:53:31 -0500 (Tue, 04 Nov 2025) EndedAt: 2025-11-04 01:54:05 -0500 (Tue, 04 Nov 2025) EllapsedTime: 33.5 seconds RetCode: 0 Status: OK PackageFile: nnSVG_1.14.0.tgz PackageFileSize: 1.561 MiB