Package: nnSVG Version: 1.12.0 Command: /home/biocbuild/R/R/bin/R CMD INSTALL nnSVG StartedAt: 2025-10-13 20:35:29 -0000 (Mon, 13 Oct 2025) EndedAt: 2025-10-13 20:36:02 -0000 (Mon, 13 Oct 2025) EllapsedTime: 32.1 seconds RetCode: 0 Status: OK