Package: nnSVG Version: 1.12.0 Command: /home/biocbuild/R/R/bin/R CMD build --keep-empty-dirs --no-resave-data nnSVG StartedAt: 2025-10-14 03:04:43 -0000 (Tue, 14 Oct 2025) EndedAt: 2025-10-14 03:16:22 -0000 (Tue, 14 Oct 2025) EllapsedTime: 699.2 seconds RetCode: 0 Status: OK PackageFile: nnSVG_1.12.0.tar.gz PackageFileSize: 1.437 MiB