Package: nnSVG Version: 1.12.0 Command: /Library/Frameworks/R.framework/Resources/bin/R CMD build --keep-empty-dirs --no-resave-data nnSVG StartedAt: 2025-04-21 17:08:45 -0400 (Mon, 21 Apr 2025) EndedAt: 2025-04-21 17:11:12 -0400 (Mon, 21 Apr 2025) EllapsedTime: 147.8 seconds RetCode: 0 Status: OK PackageFile: nnSVG_1.12.0.tar.gz PackageFileSize: 1.516 MiB