Package: nnNorm Version: 2.74.0 Command: /home/biocbuild/bbs-3.22-bioc/R/bin/R CMD build --keep-empty-dirs --no-resave-data --md5 nnNorm StartedAt: 2025-11-11 19:07:59 -0500 (Tue, 11 Nov 2025) EndedAt: 2025-11-11 19:08:30 -0500 (Tue, 11 Nov 2025) EllapsedTime: 31.0 seconds RetCode: 0 Status: OK PackageFile: nnNorm_2.74.0.tar.gz PackageFileSize: 1.591 MiB