Package: nnNorm Version: 2.72.0 Command: /home/biocbuild/R/R/bin/R CMD INSTALL nnNorm StartedAt: 2025-10-13 20:14:22 -0000 (Mon, 13 Oct 2025) EndedAt: 2025-10-13 20:14:39 -0000 (Mon, 13 Oct 2025) EllapsedTime: 17.1 seconds RetCode: 0 Status: OK