Package: nnNorm Version: 2.72.0 Command: /home/biocbuild/R/R/bin/R CMD build --keep-empty-dirs --no-resave-data nnNorm StartedAt: 2025-10-14 03:04:37 -0000 (Tue, 14 Oct 2025) EndedAt: 2025-10-14 03:05:24 -0000 (Tue, 14 Oct 2025) EllapsedTime: 47.0 seconds RetCode: 0 Status: OK PackageFile: nnNorm_2.72.0.tar.gz PackageFileSize: 1.583 MiB