Package: nipalsMCIA Version: 1.8.0 Command: /home/biocbuild/R/R/bin/R CMD INSTALL nipalsMCIA StartedAt: 2025-11-13 21:27:26 -0000 (Thu, 13 Nov 2025) EndedAt: 2025-11-13 21:28:01 -0000 (Thu, 13 Nov 2025) EllapsedTime: 35.2 seconds RetCode: 0 Status: OK