Package: nipalsMCIA Version: 1.8.0 Command: /home/biocbuild/R/R/bin/R CMD build --keep-empty-dirs --no-resave-data nipalsMCIA StartedAt: 2025-11-14 03:48:13 -0000 (Fri, 14 Nov 2025) EndedAt: 2025-11-14 03:52:03 -0000 (Fri, 14 Nov 2025) EllapsedTime: 230.1 seconds RetCode: 0 Status: OK PackageFile: nipalsMCIA_1.8.0.tar.gz PackageFileSize: 3.331 MiB