Package: nipalsMCIA Version: 1.8.0 Command: /home/biocbuild/bbs-3.22-bioc/R/bin/R CMD INSTALL nipalsMCIA StartedAt: 2025-11-13 15:21:14 -0500 (Thu, 13 Nov 2025) EndedAt: 2025-11-13 15:21:40 -0500 (Thu, 13 Nov 2025) EllapsedTime: 26.4 seconds RetCode: 0 Status: OK