Package: nipalsMCIA Version: 1.8.0 Command: /home/biocbuild/bbs-3.22-bioc/R/bin/R CMD build --keep-empty-dirs --no-resave-data --md5 nipalsMCIA StartedAt: 2025-11-11 19:07:51 -0500 (Tue, 11 Nov 2025) EndedAt: 2025-11-11 19:10:35 -0500 (Tue, 11 Nov 2025) EllapsedTime: 164.2 seconds RetCode: 0 Status: OK PackageFile: nipalsMCIA_1.8.0.tar.gz PackageFileSize: 3.149 MiB