Package: nipalsMCIA Version: 1.6.0 Command: /Library/Frameworks/R.framework/Resources/bin/R CMD build --keep-empty-dirs --no-resave-data nipalsMCIA StartedAt: 2025-09-26 05:33:35 -0400 (Fri, 26 Sep 2025) EndedAt: 2025-09-26 05:37:20 -0400 (Fri, 26 Sep 2025) EllapsedTime: 225.8 seconds RetCode: 0 Status: OK PackageFile: nipalsMCIA_1.6.0.tar.gz PackageFileSize: 3.777 MiB