Package: ngsReports Version: 2.12.1 Command: /home/biocbuild/bbs-3.22-bioc/R/bin/R CMD INSTALL ngsReports StartedAt: 2025-11-11 15:42:23 -0500 (Tue, 11 Nov 2025) EndedAt: 2025-11-11 15:42:42 -0500 (Tue, 11 Nov 2025) EllapsedTime: 19.2 seconds RetCode: 0 Status: OK