Package: ngsReports Version: 2.12.1 Command: /home/biocbuild/bbs-3.22-bioc/R/bin/R CMD build --keep-empty-dirs --no-resave-data --md5 ngsReports StartedAt: 2025-11-11 19:07:42 -0500 (Tue, 11 Nov 2025) EndedAt: 2025-11-11 19:08:38 -0500 (Tue, 11 Nov 2025) EllapsedTime: 56.1 seconds RetCode: 0 Status: OK PackageFile: ngsReports_2.12.1.tar.gz PackageFileSize: 3.207 MiB