Package: ngsReports Version: 2.12.1 Command: /Library/Frameworks/R.framework/Resources/bin/R CMD INSTALL ngsReports StartedAt: 2025-11-10 15:10:20 -0500 (Mon, 10 Nov 2025) EndedAt: 2025-11-10 15:10:27 -0500 (Mon, 10 Nov 2025) EllapsedTime: 7.1 seconds RetCode: 0 Status: OK