Package: ngsReports Version: 2.12.1 Command: rm -rf ngsReports.buildbin-libdir && mkdir ngsReports.buildbin-libdir && /Users/biocbuild/BBS/utils/build-universal.sh ngsReports_2.12.1.tar.gz /Library/Frameworks/R.framework/Resources/bin/R ngsReports.buildbin-libdir StartedAt: 2025-11-10 23:29:37 -0500 (Mon, 10 Nov 2025) EndedAt: 2025-11-10 23:29:45 -0500 (Mon, 10 Nov 2025) EllapsedTime: 8.2 seconds RetCode: 0 Status: OK PackageFile: ngsReports_2.12.1.tgz PackageFileSize: 3.794 MiB