Package: netresponse Version: 1.70.0 Command: /home/biocbuild/R/R/bin/R CMD INSTALL netresponse StartedAt: 2025-11-13 21:21:27 -0000 (Thu, 13 Nov 2025) EndedAt: 2025-11-13 21:21:41 -0000 (Thu, 13 Nov 2025) EllapsedTime: 14.3 seconds RetCode: 0 Status: OK